
BEGIN:VCALENDAR
VERSION:2.0
PRODID:-//wp-events-plugin.com//6.6.4//EN
TZID:Europe/Rome
X-WR-TIMEZONE:Europe/Rome
BEGIN:VEVENT
UID:11@arti.puglia.it
DTSTART;TZID=Europe/Rome;VALUE=DATE:20250215
DTEND;TZID=Europe/Rome;VALUE=DATE:20250217
DTSTAMP:20250528T074524Z
URL:https://www.arti.puglia.it/eventi/winter-camp-valorizzarsi-il-15-e-16-
 febbraio-incontri-sullimprenditoria-femminile-a-lecce
SUMMARY:Winter Camp VALORIZZARSÌ\, il 15 e 16 febbraio incontri sull'impre
 nditoria femminile a Lecce
DESCRIPTION:Alla breakfast del 15 febbraio interviene Alessandro Delli Noci
 \, Assessore Sviluppo economico della Regione Puglia\, per introdurre la p
 rogrammazione dei Fondi di Sviluppo e Coesione e Europei.
ATTACH;FMTTYPE=image/jpeg:https://www.arti.puglia.it/wp-content/uploads/Wi
 nter-Camp-Valorizzarsi.jpeg
END:VEVENT
BEGIN:VTIMEZONE
TZID:Europe/Rome
X-LIC-LOCATION:Europe/Rome
BEGIN:STANDARD
DTSTART:20241027T020000
TZOFFSETFROM:+0200
TZOFFSETTO:+0100
TZNAME:CET
END:STANDARD
END:VTIMEZONE
END:VCALENDAR