
BEGIN:VCALENDAR
VERSION:2.0
PRODID:-//wp-events-plugin.com//6.6.4//EN
TZID:Europe/Rome
X-WR-TIMEZONE:Europe/Rome
BEGIN:VEVENT
UID:118@arti.puglia.it
DTSTART;TZID=Europe/Rome:20260409T150000
DTEND;TZID=Europe/Rome:20260409T180000
DTSTAMP:20260403T115710Z
URL:https://www.arti.puglia.it/eventi/parita-di-genere-e-autonomia-economi
 ca-delle-donne-appuntamento-il-9-aprile-alla-fiera-del-levante
SUMMARY:Parità di genere e autonomia economica delle donne: appuntamento i
 l 9 aprile alla Fiera del Levante
DESCRIPTION:Si tiene giovedì 9 aprile 2026\, dalle 15:00 alle 18:00\, pres
 so la Fiera del Levante (Padiglione 152)\, il seminario “Parità di gene
 re e autonomia economica delle donne: il contributo della cooperazione all
 o sviluppo inclusivo dei territori”.\n\nL’iniziativa\, promossa dall
 ’Assessorato al Welfare della Regione Puglia in collaborazione con ARTI 
 e Informa\, rappresenta un’importante occasione di confronto su un tema 
 strategico per lo sviluppo dei territori: il rafforzamento dell’autonomi
 a economica delle donne come leva di inclusione sociale e crescita sosteni
 bile. In questo quadro\, il modello cooperativo viene analizzato come stru
 mento concreto per promuovere partecipazione\, occupazione e pari opportun
 ità.\n\nAd aprire i lavori saranno i saluti istituzionali di Cristian Cas
 ili\, Assessore al Welfare\, Sport e Politiche giovanili\, e di Valentina 
 Romano\, Direttrice del Dipartimento Welfare di Regione Puglia.\n\nSeguira
 nno gli interventi di esperti di Confcooperative Puglia: Stefania Pasimeni
 \, Presidente Commissione Donne Cooperazione\, con un inquadramento sul te
 ma della parità di genere e dell’autonomia economica femminile nel cont
 esto delle politiche sociali ed economiche\; Elisabetta Cassizzi\, Coordin
 atrice Commissione Donne Cooperazione\, che presenterà dati e dinamiche d
 ella partecipazione femminile nella cooperazione\; Giovanni Tricarico\, Di
 rettore Confcooperative Puglia\, che illustrerà il modello cooperativo co
 me leva per l’imprenditorialità femminile e gli strumenti di supporto d
 isponibili\, tra cui Fondosviluppo\, il sistema del credito cooperativo e 
 le strutture di sistema.\n\nNel corso dell’incontro saranno analizzate l
 e opportunità offerte dalla cooperazione per favorire percorsi di autonom
 ia economica\, con un focus su strumenti finanziari e politiche di accompa
 gnamento alla creazione e allo sviluppo di imprese femminili.\n\nLa partec
 ipazione è libera e gratuita\, previa iscrizione [a questo link].\n\nIn a
 llegato il programma del seminario.
ATTACH;FMTTYPE=image/jpeg:https://www.arti.puglia.it/wp-content/uploads/se
 minario-parita-di-genere.jpg
LOCATION:Fiera del Levante Padiglione 152\, Lungomare Starita\, 4\, Bari\, 
 Italia
X-APPLE-STRUCTURED-LOCATION;VALUE=URI;X-ADDRESS=Lungomare Starita\, 4\, Bar
 i\, Italia;X-APPLE-RADIUS=100;X-TITLE=Fiera del Levante Padiglione 152:geo
 :0,0
END:VEVENT
BEGIN:VTIMEZONE
TZID:Europe/Rome
X-LIC-LOCATION:Europe/Rome
BEGIN:DAYLIGHT
DTSTART:20260329T030000
TZOFFSETFROM:+0100
TZOFFSETTO:+0200
TZNAME:CEST
END:DAYLIGHT
END:VTIMEZONE
END:VCALENDAR