
BEGIN:VCALENDAR
VERSION:2.0
PRODID:-//wp-events-plugin.com//6.6.4//EN
TZID:Europe/Rome
X-WR-TIMEZONE:Europe/Rome
BEGIN:VEVENT
UID:113@arti.puglia.it
DTSTART;TZID=Europe/Rome:20260326T153000
DTEND;TZID=Europe/Rome:20260326T180000
DTSTAMP:20260306T150719Z
URL:https://www.arti.puglia.it/eventi/open-innovation-lookout-2026-chapter
 -sud-italia-incontro-il-26-marzo-al-politecnico-di-bari
SUMMARY:Open Innovation Lookout 2026 Chapter Sud Italia\, il 26 marzo incon
 tro al Politecnico di Bari
DESCRIPTION:Giovedì 26 marzo dalle ore 15.30 alle ore 18.00\, a Bari\, in 
 presenza nello spazio Oplà del Politecnico di Bari (in via E.Orabona\, 4)
  e online si svolge l’incontro Open Innovation Lookout 2026 Chapter Sud 
 Italia: “Applicazioni AI e strategie di Open Innovation\, esempi dal Mez
 zogiorno”.\n\nL’iniziativa intende esplorare il tema dell’Open Innov
 ation in un contesto sempre più complesso fatto di nuovi attori\, modelli
  e modalità operative. Per questo\, aggiornare la mappatura dei player e 
 comprendere come le imprese collaborano con startup\, scale-up e partner t
 ecnologici diventa essenziale per orientare scelte consapevoli. A rendere 
 questo quadro ancora più sfidante è l’ingresso dell’Intelligenza Art
 ificiale nei processi di innovazione e Open Innovation.\n\nAlla tavola rot
 onda prevista per le 16.30 partecipa\, con un intervento\, Stefano Marasto
 ni\, Responsabile Area Strategica Potenziamento del SIR e Innovazione nell
 e Imprese di ARTI. Al confronto prendono parte inoltre\, Eugenio Di Sciasc
 io - Assessore allo Sviluppo Economico e Lavoro della Regione Puglia\, Ann
 acarla Loperfido\, Vicepresidente Confindustria Bari/BAT\, Paolo Perego\, 
 Chief Technology Officer Svicom\, Antonio Squeo\, Chief Executive Officer 
 Hevolus\, Sirio Vurro\, Direttore Operativo BINP.\n\nL’incontro si chiud
 e con un momento dedicato a Q&amp\;A da parte degli intervenuti.\n\nLa par
 tecipazione è gratuita previa registrazione (in presenza fino ad esaurime
 nto posti). [A questo link] il link per registrarsi all'evento.\n\nIn all
 egato l’agenda dell’iniziativa.
ATTACH;FMTTYPE=image/jpeg:https://www.arti.puglia.it/wp-content/uploads/OI
 26_Eventi_Chapter-Sud-Italia_Convegno-scaled.jpg
LOCATION:Politecnico di Bari\, Via E.Orabona 4\, Bari\, Italia
X-APPLE-STRUCTURED-LOCATION;VALUE=URI;X-ADDRESS=Via E.Orabona 4\, Bari\, It
 alia;X-APPLE-RADIUS=100;X-TITLE=Politecnico di Bari:geo:0,0
END:VEVENT
BEGIN:VTIMEZONE
TZID:Europe/Rome
X-LIC-LOCATION:Europe/Rome
BEGIN:STANDARD
DTSTART:20251026T020000
TZOFFSETFROM:+0200
TZOFFSETTO:+0100
TZNAME:CET
END:STANDARD
END:VTIMEZONE
END:VCALENDAR