
BEGIN:VCALENDAR
VERSION:2.0
PRODID:-//wp-events-plugin.com//6.6.4//EN
TZID:Europe/Rome
X-WR-TIMEZONE:Europe/Rome
BEGIN:VEVENT
UID:121@arti.puglia.it
DTSTART;TZID=Europe/Rome:20260520T163000
DTEND;TZID=Europe/Rome:20260520T174500
DTSTAMP:20260421T075706Z
URL:https://www.arti.puglia.it/eventi/il-20-maggio-webinar-sulla-proprieta
 -intellettuale-a-cura-di-bugnion
SUMMARY:Il 20 maggio webinar sulla Proprietà Intellettuale a cura di Bugni
 on
DESCRIPTION:Il 20 maggio dalle ore 16.30 alle 17.45\, nella sala Agorà di 
 ARTI in via G.Petroni 15/f a Bari\, e online su piattaforma Zoom\, si svol
 gerà il seminario gratuito sulla Proprietà Intellettuale curato dagli es
 perti di BUGNION s.p.a\, una tra le più importanti società di consulenza
  italiana in materia di IP. L’evento\, organizzato da ARTI rientra nell
 ’ambito delle attività di Start Cup Puglia 2026\, Premio Regionale per 
 l’Innovazione e in "Road to PNI 2026" ciclo di iniziative ed eventi prom
 osso dall'Agenzia e pensato come percorso di avvicinamento alla finale del
  Premio Nazionale per l’Innovazione (PNI)\, in programma a Bari il 3 e 4
  dicembre 2026.\nPoichè ARTI eroga workshop e formazione specialistica gu
 idati dalla domanda\, nel modulo di adesione disponibile [a questo link] s
 ono elencati una serie di temi tra i quali scegliere (massimo due). I più
  votati\, entro il 25 aprile\, verranno comunicati agli iscritti per una c
 onferma di partecipazione.
ATTACH;FMTTYPE=image/jpeg:https://www.arti.puglia.it/wp-content/uploads/se
 minario-Bugnion.png
END:VEVENT
BEGIN:VTIMEZONE
TZID:Europe/Rome
X-LIC-LOCATION:Europe/Rome
BEGIN:DAYLIGHT
DTSTART:20260329T030000
TZOFFSETFROM:+0100
TZOFFSETTO:+0200
TZNAME:CEST
END:DAYLIGHT
END:VTIMEZONE
END:VCALENDAR