
BEGIN:VCALENDAR
VERSION:2.0
PRODID:-//wp-events-plugin.com//6.6.4//EN
TZID:Europe/Rome
X-WR-TIMEZONE:Europe/Rome
BEGIN:VEVENT
UID:8@arti.puglia.it
DTSTART;TZID=Europe/Rome:20250205T000000
DTEND;TZID=Europe/Rome:20250206T000000
DTSTAMP:20250528T074501Z
URL:https://www.arti.puglia.it/eventi/idrogeno-verde-e-imprese-la-regione-
 puglia-ospita-la-study-visit-del-progetto-unlock
SUMMARY:Idrogeno verde e imprese: la Regione Puglia ospita la study visit d
 el progetto UNLOCK
DESCRIPTION:La Regione Puglia\, in collaborazione con il Distretto Tecnolog
 ico Nazionale sull'Energia (DiTNE)\, ospita il 4° evento interregionale e
  study visit del progetto Interreg UNLOCK\, in programma il 5 e 6 febbraio
  2025 a Bari. Durante le due giornate\, partner e stakeholder provenienti 
 dai Paesi Bassi\, Polonia\, Portogallo\, Spagna e Svezia hanno la possibil
 ità di confrontarsi su temi legati all’idrogeno verde in Puglia e sulle
  opportunità offerte da questo mercato a vantaggio delle piccole e medie 
 imprese.
ATTACH;FMTTYPE=image/jpeg:https://www.arti.puglia.it/wp-content/uploads/Ba
 nner_Study-Visit-Puglia.jpg
LOCATION:Sala Conferenze Acquedotto Pugliese\, via Cognetti\, 36\, Bari\, I
 talia
X-APPLE-STRUCTURED-LOCATION;VALUE=URI;X-ADDRESS=via Cognetti\, 36\, Bari\, 
 Italia;X-APPLE-RADIUS=100;X-TITLE=Sala Conferenze Acquedotto Pugliese:geo:
 0,0
END:VEVENT
BEGIN:VTIMEZONE
TZID:Europe/Rome
X-LIC-LOCATION:Europe/Rome
BEGIN:STANDARD
DTSTART:20241027T020000
TZOFFSETFROM:+0200
TZOFFSETTO:+0100
TZNAME:CET
END:STANDARD
END:VTIMEZONE
END:VCALENDAR