
BEGIN:VCALENDAR
VERSION:2.0
PRODID:-//wp-events-plugin.com//6.6.4//EN
TZID:Europe/Rome
X-WR-TIMEZONE:Europe/Rome
BEGIN:VEVENT
UID:116@arti.puglia.it
DTSTART;TZID=Europe/Rome:20260414T143000
DTEND;TZID=Europe/Rome:20260414T170000
DTSTAMP:20260325T104255Z
URL:https://www.arti.puglia.it/eventi/from-idea-to-orbit-and-back-un-incon
 tro-dedicato-alle-opportunita-della-space-economy-per-le-startup
SUMMARY:From idea to orbit (and back): un incontro dedicato alle opportunit
 à della space economy per le startup
DESCRIPTION:Martedì 14 aprile 2026\, a partire dalle ore 14:30\, presso la
  Sala Agorà di ARTI Puglia a Bari e online\, si terrà “From idea to or
 bit (and back)”\, un incontro dedicato alle opportunità della space eco
 nomy in Puglia e agli strumenti a supporto della nascita e crescita di sta
 rtup innovative.\n\nL’iniziativa\, promossa da ARTI e il Distretto Tecno
 logico Aerospaziale\, in collaborazione l’incubatore ESA BIC Brindisi\, 
 si rivolge a startup\, innovatori e innovatrici o team informali o di rice
 rca\, interessati a sviluppare soluzioni basate su tecnologie e dati spazi
 ali.\n\nL’evento offrirà una panoramica sulle potenzialità della space
  economy\, un ambito sempre più strategico che non riguarda il solo setto
 re aerospaziale\, ma consente applicazioni innovative in numerosi campi\, 
 dall’agritech al monitoraggio ambientale\, dalla mobilità intelligente 
 alla gestione del territorio.\n\nNel corso dell’incontro saranno present
 ate esperienze di startup\, Coste360 e QSENSATO\, che illustreranno applic
 azioni reali delle tecnologie spaziali realizzate.\n\nUno spazio specifico
  sarà dedicato agli strumenti regionali a supporto dell’imprenditoriali
 tà innovativa\, tra cui la Start Cup Puglia\, la competizione – organiz
 zata dal 2008 da ARTI - che accompagna team e aspiranti imprenditori nella
  trasformazione delle idee in progetti di impresa\, mettendo in palio prem
 i in denaro e servizi reali. L’intervento a cura di ARTI illustrerà le 
 opportunità offerte per sostenere lo sviluppo di nuove iniziative imprend
 itoriali ad alto contenuto innovativo.\n\nDurante l’evento sarà inoltre
  presentata la open call dell’incubatore ESA BIC Brindisi\, che selezion
 a startup con un forte collegamento con le tecnologie spaziali. L’incuba
 tore\, parte della rete europea degli ESA Business Incubation Centres\, of
 fre finanziamenti a fondo perduto\, percorsi di mentoring tecnico\, access
 o a laboratori e network internazionale.\n\nL’incontro si terrà in pres
 enza\, per un numero limitato di partecipanti\, e sarà fruibile anche onl
 ine.\n\nLa partecipazione è gratuita previa registrazione [a questo link]
 .\n\n\n\n[gallery ids="4993\,4994"]
ATTACH;FMTTYPE=image/jpeg:https://www.arti.puglia.it/wp-content/uploads/Co
 pertina_14-aprile-2026.png
END:VEVENT
BEGIN:VTIMEZONE
TZID:Europe/Rome
X-LIC-LOCATION:Europe/Rome
BEGIN:DAYLIGHT
DTSTART:20260329T030000
TZOFFSETFROM:+0100
TZOFFSETTO:+0200
TZNAME:CEST
END:DAYLIGHT
END:VTIMEZONE
END:VCALENDAR