
BEGIN:VCALENDAR
VERSION:2.0
PRODID:-//wp-events-plugin.com//6.6.4//EN
TZID:Europe/Rome
X-WR-TIMEZONE:Europe/Rome
BEGIN:VEVENT
UID:114@arti.puglia.it
DTSTART;TZID=Europe/Rome:20260310T090000
DTEND;TZID=Europe/Rome:20260310T123000
DTSTAMP:20260306T100128Z
URL:https://www.arti.puglia.it/eventi/bioinvestit-il-10-marzo-al-balab-la-
 tappa-barese
SUMMARY:BioInvestIT\, il 10 marzo al BaLab la tappa barese
DESCRIPTION:L'iniziativa nasce per favorire l’incontro tra startup e PMI 
 innovative attive nella bioeconomia circolare e investitori finanziari e c
 orporate nazionali e internazionali
ATTACH;FMTTYPE=image/jpeg:https://www.arti.puglia.it/wp-content/uploads/BI
 OINVESTIT_locandina-2026-2.jpg
LOCATION:BaLab\, Piazza Cesare Battisti\,1\, Bari\, Italia
X-APPLE-STRUCTURED-LOCATION;VALUE=URI;X-ADDRESS=Piazza Cesare Battisti\,1\,
  Bari\, Italia;X-APPLE-RADIUS=100;X-TITLE=BaLab:geo:0,0
END:VEVENT
BEGIN:VTIMEZONE
TZID:Europe/Rome
X-LIC-LOCATION:Europe/Rome
BEGIN:STANDARD
DTSTART:20251026T020000
TZOFFSETFROM:+0200
TZOFFSETTO:+0100
TZNAME:CET
END:STANDARD
END:VTIMEZONE
END:VCALENDAR